BEGIN:VCALENDAR
VERSION:2.0
PRODID:-//https://crm.oyvrental.cl///NONSGML kigkonsult.se iCalcreator 2.10.15//
METHOD:PUBLISH
BEGIN:VEVENT
UID:20260421T050957-04-8098OtvB4w@https://crm.oyvrental.cl/
DTSTAMP:20260421T090957Z
DESCRIPTION: https://crm.oyvrental.cl/index.php/component/rseventspro/event
 o/16308-visita-tecnica-rocktech-nicolas-felipe?Itemid=101
DTSTART;VALUE=DATE:20251015
LOCATION:PUENTE ALTO (Puente Alto\, Cordillera\, Región Metropolitana de Sa
 ntiago)
SUMMARY:VISITA TECNICA ROCKTECH NICOLAS / FELIPE
URL:https://crm.oyvrental.cl/index.php/component/rseventspro/evento/16308-v
 isita-tecnica-rocktech-nicolas-felipe?Itemid=101
END:VEVENT
END:VCALENDAR
