BEGIN:VCALENDAR
VERSION:2.0
PRODID:-//https://crm.oyvrental.cl///NONSGML kigkonsult.se iCalcreator 2.10.15//
METHOD:PUBLISH
BEGIN:VEVENT
UID:20260421T051914-04-8738ObHMVh@https://crm.oyvrental.cl/
DTSTAMP:20260421T091914Z
DESCRIPTION: https://crm.oyvrental.cl/index.php/component/rseventspro/event
 o/16305-visita-tecnica-asec-nicolas?Itemid=101
DTSTART;VALUE=DATE:20251015
LOCATION:PUENTE ALTO  ()
SUMMARY:VISITA TECNICA ASEC NICOLAS
URL:https://crm.oyvrental.cl/index.php/component/rseventspro/evento/16305-v
 isita-tecnica-asec-nicolas?Itemid=101
END:VEVENT
END:VCALENDAR
