BEGIN:VCALENDAR
VERSION:2.0
PRODID:-//https://crm.oyvrental.cl///NONSGML kigkonsult.se iCalcreator 2.10.15//
METHOD:PUBLISH
BEGIN:VEVENT
UID:20260421T051302-04-8111IUtnnV@https://crm.oyvrental.cl/
DTSTAMP:20260421T091302Z
DESCRIPTION:RETIRO:SK16-310\nD1:José Ananías 207\, Macul\, Región Metropoli
 tana SILENTIUM D2: CORDILLERA 551\, PUDAHUEL\nContacto: Carlos Celis  +56 
 9 8776 2143 https://crm.oyvrental.cl/index.php/component/rseventspro/event
 o/16283-retiro-cofama?Itemid=101
DTSTART:20251016T130000Z
DTEND:20251016T133000Z
LOCATION:MACUL (Av. Rodrigo de Araya 2106\, 7810134 Ñuñoa\, Región Metropol
 itana\, Chile)
SUMMARY:Retiro- COFAMA
URL:https://crm.oyvrental.cl/index.php/component/rseventspro/evento/16283-r
 etiro-cofama?Itemid=101
END:VEVENT
END:VCALENDAR
