BEGIN:VCALENDAR
VERSION:2.0
PRODID:-//https://crm.oyvrental.cl///NONSGML kigkonsult.se iCalcreator 2.10.15//
METHOD:PUBLISH
BEGIN:VEVENT
UID:20260421T051744-04-6443XJtvvA@https://crm.oyvrental.cl/
DTSTAMP:20260421T091744Z
DESCRIPTION:ENTREGA:GE18-S369Contracto: 4921$320.000\nD1: San Ignacio 601\,
  Quilicura\, Región MetropolitanaD2: Longitudinal Norte\, Sector: Monteneg
 ro-Los Ermitaños 688\, 2220792 Llaillay\, Valparaíso CRISTALERIAS CHILE\nC
 ontacto: Christian Gonzalez +56 9 5005 0169 https://crm.oyvrental.cl/index
 .php/component/rseventspro/evento/16275-entrega-go-modular-llay-llay?Itemi
 d=101
DTSTART:20251015T153000Z
DTEND:20251015T173000Z
LOCATION:LLAY LLAY (Llay Llay\, San Felipe de Aconcagua\, Valparaíso)
SUMMARY:Entrega- GO MODULAR (Llay LLay) 
URL:https://crm.oyvrental.cl/index.php/component/rseventspro/evento/16275-e
 ntrega-go-modular-llay-llay?Itemid=101
END:VEVENT
END:VCALENDAR
