BEGIN:VCALENDAR
VERSION:2.0
PRODID:-//https://crm.oyvrental.cl///NONSGML kigkonsult.se iCalcreator 2.10.15//
METHOD:PUBLISH
BEGIN:VEVENT
UID:20260421T050525-04-24815vp4GJ@https://crm.oyvrental.cl/
DTSTAMP:20260421T090525Z
DESCRIPTION:RETIRO:SN8-276 LG8-322 HA08-435\nD1: Cordillera 551\, PudahuelD
 2:Santa Isabel 497\, LampaODATA LAMPA\nIgnacio 9 4407 8052Mauricio 9 8981 
 5234Cristian 9 5948 5538 https://crm.oyvrental.cl/index.php/component/rsev
 entspro/evento/16269-retiro-jose-mancilla-jmie?Itemid=101
DTSTART:20251015T133000Z
DTEND:20251015T140000Z
LOCATION:LAMPA ()
SUMMARY:Retiro- JOSE MANCILLA JMIE
URL:https://crm.oyvrental.cl/index.php/component/rseventspro/evento/16269-r
 etiro-jose-mancilla-jmie?Itemid=101
END:VEVENT
END:VCALENDAR
