BEGIN:VCALENDAR
VERSION:2.0
PRODID:-//https://crm.oyvrental.cl///NONSGML kigkonsult.se iCalcreator 2.10.15//
METHOD:PUBLISH
BEGIN:VEVENT
UID:20260421T050526-04-6501RvKA6E@https://crm.oyvrental.cl/
DTSTAMP:20260421T090526Z
DESCRIPTION:RETIRO: HA16-388\nD1: CD Biomedical (Camino Lo Boza 120B\, Quil
 icura)D2: CORDILLERA 551\, PUDAHUEL\nContactos:Rafael Contreras (+56 9 774
 8 5059)Mario Coloma (+56 959109482 https://crm.oyvrental.cl/index.php/comp
 onent/rseventspro/evento/16238-retiro-loginsa-biomedical?Itemid=101
DTSTART:20251016T133000Z
DTEND:20251016T143000Z
LOCATION:QUILICURA  ()
SUMMARY:Retiro- LOGINSA BIOMEDICAL 
URL:https://crm.oyvrental.cl/index.php/component/rseventspro/evento/16238-r
 etiro-loginsa-biomedical?Itemid=101
END:VEVENT
END:VCALENDAR
