BEGIN:VCALENDAR
VERSION:2.0
PRODID:-//https://crm.oyvrental.cl///NONSGML kigkonsult.se iCalcreator 2.10.15//
METHOD:PUBLISH
BEGIN:VEVENT
UID:20260421T050526-04-14300juDJZ@https://crm.oyvrental.cl/
DTSTAMP:20260421T090526Z
DESCRIPTION:RETIRO: HA16-388\nD1: CD Servel (Cañaveral 34\, Quilicura)D2: C
 ORDILLERA 551 PUDAHUEL\nContactos:Rafael Contreras (+56 9 7748 5059)Juan G
 arrido (+56 9 4066 8924) https://crm.oyvrental.cl/index.php/component/rsev
 entspro/evento/16235-retiro-logistica-industrial?Itemid=101
DTSTART:20251015T113000Z
DTEND:20251015T123000Z
LOCATION:QUILICURA  ()
SUMMARY:Retiro- LOGISTICA INDUSTRIAL 
URL:https://crm.oyvrental.cl/index.php/component/rseventspro/evento/16235-r
 etiro-logistica-industrial?Itemid=101
END:VEVENT
END:VCALENDAR
